BEGIN:VCALENDAR
VERSION:2.0
PRODID:-//dhtmlXScheduler//NONSGML v2.2//EN
X-WR-CALNAME:Wydarzenia
BEGIN:VEVENT
DTSTART:20230530T131500
DTEND:20260421T085747
UID:1
SUMMARY:Zastosowanie zależnej od dyfuzji metody jądrowego rezonansu magnetycznego w ocenie neuropatii nerwu wzrokowego i wizualizacji dyfuzji planarnej
END:VEVENT
END:VCALENDAR