BEGIN:VCALENDAR
VERSION:2.0
PRODID:-//dhtmlXScheduler//NONSGML v2.2//EN
X-WR-CALNAME:Wydarzenia
BEGIN:VEVENT
DTSTART:20230317T120000
DTEND:20260421T140202
UID:1
SUMMARY:Zapraszamy do głosowania na Planetarium i Obserwatorium w plebiscycie Podlaska Marka 2022!
END:VEVENT
END:VCALENDAR