BEGIN:VCALENDAR
VERSION:2.0
PRODID:-//dhtmlXScheduler//NONSGML v2.2//EN
X-WR-CALNAME:Wydarzenia
BEGIN:VEVENT
DTSTART:20240518T100000
DTEND:20240518T150000
UID:1
SUMMARY:XX Podlaski Festiwal Nauki i Sztuki - Piknik w dniu 18 maja 2023
END:VEVENT
END:VCALENDAR