BEGIN:VCALENDAR
VERSION:2.0
PRODID:-//dhtmlXScheduler//NONSGML v2.2//EN
X-WR-CALNAME:Wydarzenia
BEGIN:VEVENT
DTSTART:20230516T090000
DTEND:20260421T085748
UID:1
SUMMARY:XIX Podlaski Festiwal Nauki i Sztuki
END:VEVENT
END:VCALENDAR