BEGIN:VCALENDAR
VERSION:2.0
PRODID:-//dhtmlXScheduler//NONSGML v2.2//EN
X-WR-CALNAME:Wydarzenia
BEGIN:VEVENT
DTSTART:20231024T131500
DTEND:20231024T140000
UID:1
SUMMARY:WPŁYW CIŚNIENIA HYDROSTATYCZNEGO I CHEMICZNEGO ORAZ POLA MAGNETYCZNEGO NA ZJAWISKA KALORYCZNE W CZYSTYCH I DOMIESZKOWANYCH MONOKRYSZTAŁACH Fe7Se8
END:VEVENT
END:VCALENDAR