BEGIN:VCALENDAR
VERSION:2.0
PRODID:-//dhtmlXScheduler//NONSGML v2.2//EN
X-WR-CALNAME:Wydarzenia
BEGIN:VEVENT
DTSTART:20230314T131500
DTEND:20260421T162412
UID:1
SUMMARY:Weak emission-line quasars and low luminosity AGN
END:VEVENT
END:VCALENDAR