BEGIN:VCALENDAR
VERSION:2.0
PRODID:-//dhtmlXScheduler//NONSGML v2.2//EN
X-WR-CALNAME:Wydarzenia
BEGIN:VEVENT
DTSTART:20231017T131500
DTEND:20260420T050741
UID:1
SUMMARY:Ultraszybkie koherentne przełączanie fotomagnetyczne w ferrimagnetycznych granatach
END:VEVENT
END:VCALENDAR