BEGIN:VCALENDAR
VERSION:2.0
PRODID:-//dhtmlXScheduler//NONSGML v2.2//EN
X-WR-CALNAME:Wydarzenia
BEGIN:VEVENT
DTSTART:20230511T133000
DTEND:20260421T150000
UID:1
SUMMARY:Tryb i zasady rekrutacji do Szkoły Doktorskiej Nauk Ścisłych i Przyrodniczych w roku akademickim 2023/2024
END:VEVENT
END:VCALENDAR