BEGIN:VCALENDAR
VERSION:2.0
PRODID:-//dhtmlXScheduler//NONSGML v2.2//EN
X-WR-CALNAME:Wydarzenia
BEGIN:VEVENT
DTSTART:20240305T131500
DTEND:20260420T083318
UID:1
SUMMARY:Spinowa magnetorezystancja i spinowy efekt Halla w cienkowarstwowych układach hybrydowych: metal ciężki, ferromagnetyk, antyferromagnetyk
END:VEVENT
END:VCALENDAR