BEGIN:VCALENDAR
VERSION:2.0
PRODID:-//dhtmlXScheduler//NONSGML v2.2//EN
X-WR-CALNAME:Wydarzenia
BEGIN:VEVENT
DTSTART:20231128T131500
DTEND:20260421T015047
UID:1
SUMMARY:Shedding light on the cosmic accelerators: the case of blazars
END:VEVENT
END:VCALENDAR