BEGIN:VCALENDAR
VERSION:2.0
PRODID:-//dhtmlXScheduler//NONSGML v2.2//EN
X-WR-CALNAME:Wydarzenia
BEGIN:VEVENT
DTSTART:20260428T131500
DTEND:20260422T211540
UID:1
SUMMARY:Scalar field dark matter from the perspective of ultracold atomic physics.
END:VEVENT
END:VCALENDAR