BEGIN:VCALENDAR
VERSION:2.0
PRODID:-//dhtmlXScheduler//NONSGML v2.2//EN
X-WR-CALNAME:Wydarzenia
BEGIN:VEVENT
DTSTART:20230117T000000
DTEND:20260421T203428
UID:1
SUMMARY:Rozrywanie i promieniowanie białego karła spadającego na czarną dziurę
END:VEVENT
END:VCALENDAR