BEGIN:VCALENDAR
VERSION:2.0
PRODID:-//dhtmlXScheduler//NONSGML v2.2//EN
X-WR-CALNAME:Wydarzenia
BEGIN:VEVENT
DTSTART:20230308T140000
DTEND:20260421T135925
UID:1
SUMMARY:Rekrutacja – ERASMUS+ na rok akademicki 2023/2024
END:VEVENT
END:VCALENDAR