BEGIN:VCALENDAR
VERSION:2.0
PRODID:-//dhtmlXScheduler//NONSGML v2.2//EN
X-WR-CALNAME:Wydarzenia
BEGIN:VEVENT
DTSTART:20230925T131500
DTEND:20260421T015155
UID:1
SUMMARY:Publiczna Obrona Rozprawy Doktorskiej
END:VEVENT
END:VCALENDAR