BEGIN:VCALENDAR
VERSION:2.0
PRODID:-//dhtmlXScheduler//NONSGML v2.2//EN
X-WR-CALNAME:Wydarzenia
BEGIN:VEVENT
DTSTART:20231128T141500
DTEND:20260421T203429
UID:1
SUMMARY:Obrazowanie PET/CT w diagnostyce guzów neuroendokrynnych – co może jeszcze zrobić fizyk medyczny?
END:VEVENT
END:VCALENDAR