BEGIN:VCALENDAR
VERSION:2.0
PRODID:-//dhtmlXScheduler//NONSGML v2.2//EN
X-WR-CALNAME:Wydarzenia
BEGIN:VEVENT
DTSTART:20231020T170000
DTEND:20231020T210000
UID:1
SUMMARY:Noc Innowacji
END:VEVENT
END:VCALENDAR