BEGIN:VCALENDAR
VERSION:2.0
PRODID:-//dhtmlXScheduler//NONSGML v2.2//EN
X-WR-CALNAME:Wydarzenia
BEGIN:VEVENT
DTSTART:20230509T131500
DTEND:20260421T181513
UID:1
SUMMARY:Modelowanie fluktuacji magnetycznych w ultracienkich warstwach
END:VEVENT
END:VCALENDAR