BEGIN:VCALENDAR
VERSION:2.0
PRODID:-//dhtmlXScheduler//NONSGML v2.2//EN
X-WR-CALNAME:Wydarzenia
BEGIN:VEVENT
DTSTART:20230418T131500
DTEND:20260421T135926
UID:1
SUMMARY:Magnetic phase transitions in Dy3+ and Tb3+ aluminoborates below 700 mK and their nature: quantum or classical.
END:VEVENT
END:VCALENDAR