BEGIN:VCALENDAR
VERSION:2.0
PRODID:-//dhtmlXScheduler//NONSGML v2.2//EN
X-WR-CALNAME:Wydarzenia
BEGIN:VEVENT
DTSTART:20231002T140000
DTEND:20260420T083321
UID:1
SUMMARY:Inauguracja Roku Akademickiego 2023/2024
END:VEVENT
END:VCALENDAR