BEGIN:VCALENDAR
VERSION:2.0
PRODID:-//dhtmlXScheduler//NONSGML v2.2//EN
X-WR-CALNAME:Wydarzenia
BEGIN:VEVENT
DTSTART:20241029T000000
DTEND:20241029T131500
UID:1
SUMMARY:How to "cook" nanostructures? Technology, properties and applications of ZnO and CuO nanostructures grown by the hydrothermal method
END:VEVENT
END:VCALENDAR