BEGIN:VCALENDAR
VERSION:2.0
PRODID:-//dhtmlXScheduler//NONSGML v2.2//EN
X-WR-CALNAME:Wydarzenia
BEGIN:VEVENT
DTSTART:20230320T131500
DTEND:20260421T140156
UID:1
SUMMARY:Efektywne banki szablonów w wykrywaniu prawie monochromatycznych fal grawitacyjnych
END:VEVENT
END:VCALENDAR