BEGIN:VCALENDAR
VERSION:2.0
PRODID:-//dhtmlXScheduler//NONSGML v2.2//EN
X-WR-CALNAME:Wydarzenia
BEGIN:VEVENT
DTSTART:20230519T000000
DTEND:20260421T085554
UID:1
SUMMARY:Dzień Rektorski: 19 maja 2023
END:VEVENT
END:VCALENDAR