BEGIN:VCALENDAR
VERSION:2.0
PRODID:-//dhtmlXScheduler//NONSGML v2.2//EN
X-WR-CALNAME:Wydarzenia
BEGIN:VEVENT
DTSTART:20230414T080000
DTEND:20260421T220636
UID:1
SUMMARY:Dzień Rektorski: 14 kwietnia 2023
END:VEVENT
END:VCALENDAR