BEGIN:VCALENDAR
VERSION:2.0
PRODID:-//dhtmlXScheduler//NONSGML v2.2//EN
X-WR-CALNAME:Wydarzenia
BEGIN:VEVENT
DTSTART:20230523T131500
DTEND:20260421T140203
UID:1
SUMMARY:Dynamika dwuskładnikowego wzajemnie odpychającego się  gazu fermionów w skończonej temperaturze
END:VEVENT
END:VCALENDAR