BEGIN:VCALENDAR
VERSION:2.0
PRODID:-//dhtmlXScheduler//NONSGML v2.2//EN
X-WR-CALNAME:Wydarzenia
BEGIN:VEVENT
DTSTART:20241203T000000
DTEND:20260422T010248
UID:1
SUMMARY:Dissipation in superfluid layers of a neutron star
END:VEVENT
END:VCALENDAR