BEGIN:VCALENDAR
VERSION:2.0
PRODID:-//dhtmlXScheduler//NONSGML v2.2//EN
X-WR-CALNAME:Wydarzenia
BEGIN:VEVENT
DTSTART:20230620T131500
DTEND:20260421T202743
UID:1
SUMMARY:Density functional theory for superfluid Fermi systems:  an overview of recent developments
END:VEVENT
END:VCALENDAR