BEGIN:VCALENDAR
VERSION:2.0
PRODID:-//dhtmlXScheduler//NONSGML v2.2//EN
X-WR-CALNAME:Wydarzenia
BEGIN:VEVENT
DTSTART:20230606T131500
DTEND:20260421T140202
UID:1
SUMMARY:Czasowo-rozdzielcza spektroskopia dynamiki magnetyzacji indukowanej laserem femtosekundowym w granatach
END:VEVENT
END:VCALENDAR