BEGIN:VCALENDAR
VERSION:2.0
PRODID:-//dhtmlXScheduler//NONSGML v2.2//EN
X-WR-CALNAME:Wydarzenia
BEGIN:VEVENT
DTSTART:20231107T131500
DTEND:20260420T083321
UID:1
SUMMARY:Białostocki Dzień Roku Kopernikańskiego
END:VEVENT
END:VCALENDAR