BEGIN:VCALENDAR
VERSION:2.0
PRODID:-//dhtmlXScheduler//NONSGML v2.2//EN
X-WR-CALNAME:Wydarzenia
BEGIN:VEVENT
DTSTART:20241126T131500
DTEND:20260422T190642
UID:1
SUMMARY:Applications of spin waves in nanoscale systems for magnonic computing
END:VEVENT
END:VCALENDAR