BEGIN:VCALENDAR
VERSION:2.0
PRODID:-//dhtmlXScheduler//NONSGML v2.2//EN
X-WR-CALNAME:Wydarzenia
BEGIN:VEVENT
DTSTART:20250121T131500
DTEND:20260420T080852
UID:0
SUMMARY:Nobilitacja sieci neuronowych
END:VEVENT
BEGIN:VEVENT
DTSTART:20250128T131500
DTEND:20260420T080852
UID:1
SUMMARY:Rola symetrii w ultraszybkim przełączaniu fotomagnetycznym
END:VEVENT
BEGIN:VEVENT
DTSTART:20250225T131500
DTEND:20260420T080852
UID:2
SUMMARY:ESP32: Przegląd Możliwości i Wybranych Zastosowań Praktycznych
END:VEVENT
BEGIN:VEVENT
DTSTART:20250227T160000
DTEND:20260420T180000
UID:3
SUMMARY:Klubu Młodego Odkrywcy „Newton, Einstein a teraz My”
END:VEVENT
BEGIN:VEVENT
DTSTART:20250304T131500
DTEND:20260420T080852
UID:4
SUMMARY:Wpływ sekwencji ułożenia warstw kobaltu i wolframu na parametry precesji magnetyzacji w asymetrycznych strukturach
END:VEVENT
BEGIN:VEVENT
DTSTART:20250311T131500
DTEND:20260420T080852
UID:5
SUMMARY:SST-1M stereoscopic system: Overview and preliminary results
END:VEVENT
BEGIN:VEVENT
DTSTART:20250318T131500
DTEND:20260420T080852
UID:6
SUMMARY:Supersolidity of dipolar Bose-Einstein condensates induced by coupling to fermions
END:VEVENT
BEGIN:VEVENT
DTSTART:20250318T150000
DTEND:20260420T080852
UID:7
SUMMARY:Tryb i zasady rekrutacji do Szkoły Doktorskiej Uniwersytetu w Białymstoku w roku akademickim 2025/2026
END:VEVENT
BEGIN:VEVENT
DTSTART:20250325T131500
DTEND:20260420T080852
UID:8
SUMMARY:Badania nanocząstek ferrimagnetycznych na bazie ferrytu galu
END:VEVENT
BEGIN:VEVENT
DTSTART:20250327T160000
DTEND:20260420T080852
UID:9
SUMMARY:Klub Młodego Odkrywcy „Newton, Einstein a teraz My”
END:VEVENT
BEGIN:VEVENT
DTSTART:20250401T131500
DTEND:20260420T080852
UID:10
SUMMARY:Understanding and applications of quantum Hall effects
END:VEVENT
BEGIN:VEVENT
DTSTART:20250407T130000
DTEND:20260420T080852
UID:11
SUMMARY:Publiczna obrona rozprawy doktorskiej
END:VEVENT
BEGIN:VEVENT
DTSTART:20250408T131500
DTEND:20260420T080852
UID:12
SUMMARY:Jak znaleźć ważne zmienne w morzu danych?
END:VEVENT
BEGIN:VEVENT
DTSTART:20250415T131500
DTEND:20260420T080852
UID:13
SUMMARY:Nowe metody w teleradioterapii hadronowej
END:VEVENT
BEGIN:VEVENT
DTSTART:20250424T160000
DTEND:20260420T080852
UID:14
SUMMARY:Klub Młodego Odkrywcy „Newton, Einstein a teraz My”
END:VEVENT
BEGIN:VEVENT
DTSTART:20250429T131500
DTEND:20260420T080852
UID:15
SUMMARY:The Copernican Revolution and the dawn of modern science
END:VEVENT
BEGIN:VEVENT
DTSTART:20250506T131500
DTEND:20260420T080852
UID:16
SUMMARY:O algorytmach podziału subwencji
END:VEVENT
BEGIN:VEVENT
DTSTART:20250512T074500
DTEND:20260420T200000
UID:17
SUMMARY:Akyualizacja systemów USOSweb oraz eduPortal
END:VEVENT
BEGIN:VEVENT
DTSTART:20250513T000000
DTEND:20260420T131500
UID:18
SUMMARY:Liniowa, nieliniowa oraz czasowo-rozdzielcza spektroskopia rentgenowska z wykorzystaniem promieniowania synchrotronowego.
END:VEVENT
BEGIN:VEVENT
DTSTART:20250520T131500
DTEND:20260420T080852
UID:19
SUMMARY:Trójwymiarowe krople bozonowo-fermionowe w niezerowej temperaturze
END:VEVENT
BEGIN:VEVENT
DTSTART:20250527T131500
DTEND:20260420T080852
UID:20
SUMMARY:“Living” domain stuctures in ultrathin magnetic films
END:VEVENT
BEGIN:VEVENT
DTSTART:20250603T131500
DTEND:20260420T080852
UID:21
SUMMARY:Mechanical and thermal engineering of functional nanomembranes
END:VEVENT
BEGIN:VEVENT
DTSTART:20250604T090000
DTEND:20260420T080852
UID:22
SUMMARY:VI Forum Doktorantów
END:VEVENT
BEGIN:VEVENT
DTSTART:20250610T131500
DTEND:20260420T080852
UID:23
SUMMARY:Wykorzystanie programu "Mathematica" w dydaktyce i działalności naukowej
END:VEVENT
BEGIN:VEVENT
DTSTART:20250617T160000
DTEND:20260420T080852
UID:24
SUMMARY:Tryb i zasady rekrutacji do SD UwB w roku akademickim 2025/2026
END:VEVENT
BEGIN:VEVENT
DTSTART:20250630T120000
DTEND:20260420T080852
UID:25
SUMMARY:Publiczne kolokwium habilitacyjne
END:VEVENT
BEGIN:VEVENT
DTSTART:20250930T131500
DTEND:20260420T080852
UID:26
SUMMARY:Ultraszybka dynamika w magnetoplazmonicznych periodycznych strukturach hybrydowych
END:VEVENT
BEGIN:VEVENT
DTSTART:20251006T120000
DTEND:20260420T080852
UID:27
SUMMARY:Inauguracja roku akademickiego 2025/2026
END:VEVENT
BEGIN:VEVENT
DTSTART:20251014T131500
DTEND:20260420T080852
UID:28
SUMMARY:Wyznaczanie składowych tensora gradientu pola elektrycznego w spektroskopii Mössbauera z wykorzystaniem formalizmu momentów prędkości
END:VEVENT
BEGIN:VEVENT
DTSTART:20251021T131500
DTEND:20260420T080852
UID:29
SUMMARY:Morphologically chiral gold nanomaterials
END:VEVENT
BEGIN:VEVENT
DTSTART:20251028T131500
DTEND:20260420T080852
UID:30
SUMMARY:Searches for continuous-type gravitational waves from isolated neutron stars in data collected by the LIGO/Virgo/KAGRA gravitational-wave detectors
END:VEVENT
BEGIN:VEVENT
DTSTART:20251029T160000
DTEND:20260420T080852
UID:31
SUMMARY:Klubu Młodego Odkrywcy „Newton, Einstein a teraz My” - Moj towarzysz holo
END:VEVENT
BEGIN:VEVENT
DTSTART:20251104T131500
DTEND:20260420T080852
UID:32
SUMMARY:Investigating the X-ray weak, emission-line deficient quasar SDSS J101353.45+492758.1
END:VEVENT
BEGIN:VEVENT
DTSTART:20251118T131500
DTEND:20260420T080852
UID:33
SUMMARY:Opracowanie i zbadanie efektywności nowych rozwiązań w zakresie oznaczania i usuwania wybranych zanieczyszczeń wód i ścieków
END:VEVENT
BEGIN:VEVENT
DTSTART:20251125T131500
DTEND:20260420T080852
UID:34
SUMMARY:Heliosphere Exploration in the 21st Century
END:VEVENT
BEGIN:VEVENT
DTSTART:20251126T160000
DTEND:20260420T080852
UID:35
SUMMARY:Klub Młodego Odkrywcy „Newton, Einstein a teraz My” - Reguła przekory i przekorne układu
END:VEVENT
BEGIN:VEVENT
DTSTART:20251202T131500
DTEND:20260420T080852
UID:36
SUMMARY:Astronomical Observatory of the Faculty of Physics
END:VEVENT
BEGIN:VEVENT
DTSTART:20251209T131500
DTEND:20260420T080852
UID:37
SUMMARY:Nobel Prize in Physics 2025 The Schrödinger’s Cat gets bigger
END:VEVENT
BEGIN:VEVENT
DTSTART:20251216T131500
DTEND:20260420T080852
UID:38
SUMMARY:Supersolidity of dipolar Bose-Einstein condensates induced by coupling to fermions and dynamic formation of this phase
END:VEVENT
BEGIN:VEVENT
DTSTART:20260113T131500
DTEND:20260420T080852
UID:39
SUMMARY:James Webb Space Telescope: overview and scientific results
END:VEVENT
BEGIN:VEVENT
DTSTART:20260120T131500
DTEND:20260420T080852
UID:40
SUMMARY:Nadprzewodnictwo w materiałach o wysokiej entropii: aktualny stan badań i perspektywy
END:VEVENT
BEGIN:VEVENT
DTSTART:20260127T131500
DTEND:20260420T080852
UID:41
SUMMARY:Holography and High-Energy Pion Scattering
END:VEVENT
BEGIN:VEVENT
DTSTART:20260128T160000
DTEND:20260420T080852
UID:42
SUMMARY:Klub Młodego Odkrywcy „Newton, Einstein a teraz My” - Zabawy z piłką ku zachowaniu energii!
END:VEVENT
BEGIN:VEVENT
DTSTART:20260203T000000
DTEND:20260420T080852
UID:43
SUMMARY:Numerical Investigations of Collective Spin-Wave Dynamics in Complex Magnetic Textures and Patterned Ferromagnetic Films
END:VEVENT
BEGIN:VEVENT
DTSTART:20260225T160000
DTEND:20260420T080852
UID:44
SUMMARY:Klub Młodego Odkrywcy „Newton, Einstein a teraz My” - Obroty i piruety, czyli co wiemy o ruchu obrotowym
END:VEVENT
BEGIN:VEVENT
DTSTART:20260303T131500
DTEND:20260420T080852
UID:45
SUMMARY:Wpływ parametrów wzrostu warstw kobaltu, tlenku magnezu i cyny na uzyskiwanie materiałów o założonych właściwościach fizycznych
END:VEVENT
BEGIN:VEVENT
DTSTART:20260306T121500
DTEND:20260420T080852
UID:46
SUMMARY:Controlling magnetization dynamics and switching with electric field
END:VEVENT
BEGIN:VEVENT
DTSTART:20260310T131500
DTEND:20260420T080852
UID:47
SUMMARY:Wykorzystanie sztucznej inteligencji i nowoczesnych metod nauczania w pracy naukowo-dydaktycznej na Wydziale Fizyki UwB
END:VEVENT
BEGIN:VEVENT
DTSTART:20260317T131500
DTEND:20260420T080852
UID:48
SUMMARY:Oddziaływanie fal radiowych na organizm człowieka (100 kHz – 300 GHz)
END:VEVENT
BEGIN:VEVENT
DTSTART:20260324T131500
DTEND:20260420T080852
UID:49
SUMMARY:Universal spin-squeezing dynamics in spin-1 atomic Bose-Einstein condensates
END:VEVENT
BEGIN:VEVENT
DTSTART:20260325T160000
DTEND:20260420T080852
UID:50
SUMMARY:Klub Młodego Odkrywcy „Newton, Einstein a teraz My” - Materiały samoporządkujące się
END:VEVENT
BEGIN:VEVENT
DTSTART:20260331T000000
DTEND:20260420T080852
UID:51
SUMMARY:Statyka i dynamika namagnesowania w wielowarstwach magnetycznych
END:VEVENT
BEGIN:VEVENT
DTSTART:20260414T131500
DTEND:20260420T080852
UID:52
SUMMARY:Fluctuations and correlations in ultracold gas at equilibrium
END:VEVENT
BEGIN:VEVENT
DTSTART:20260421T131500
DTEND:20260420T080852
UID:53
SUMMARY:Poland in European Magnetic Fields Laboratory - Materials research at the Faculty of Physics, University of Warsaw
END:VEVENT
BEGIN:VEVENT
DTSTART:20260422T163000
DTEND:20260420T080852
UID:54
SUMMARY:Tryb i zasady rekrutacji do Szkoły Doktorskiej Uniwersytetu w Białymstoku w roku akademickim 2026/2027
END:VEVENT
BEGIN:VEVENT
DTSTART:20260429T160000
DTEND:20260420T080852
UID:55
SUMMARY:Klub Młodego Odkrywcy „Newton, Einstein a teraz My” - Słoneczny Silnik: Jak pracuje gwiazda?
END:VEVENT
END:VCALENDAR